BEGIN:VCALENDAR
VERSION:2.0
PRODID:-//Library Market//iCal Export//EN
BEGIN:VEVENT
SUMMARY:Chess Club | Louise Lowry Davis Center
UID:3790
DTSTAMP:20260423T102900Z
DTSTART:20251218T210000Z
DTEND:20251219T000000Z
LOCATION:Louise Lowry Davis Center, 111 W Victoria Street, Santa Barbara, 
 CA 93101, United States
ROOM: Chess Club | Louise Lowry Davis Center
DESCRIPTION:This weekly social group is designed to connect older adults t
 hrough their love of Chess. No matter how skilled you are at Chess, this g
 roup is for you! New members are always welcome, and the group is open to 
 English and Spanish speakers.View All Older Adult Programs
URL:https://santabarbaracity.librarycalendar.com/event/chess-club-louise-l
 owry-davis-center-3790
END:VEVENT
END:VCALENDAR
