BEGIN:VCALENDAR
VERSION:2.0
PRODID:-//Library Market//iCal Export//EN
BEGIN:VEVENT
SUMMARY:Moana 2 | Santa Barbara Golf Club
UID:4287
DTSTAMP:20260426T004300Z
DTSTART:20250511T023000Z
DTEND:20250511T043000Z
LOCATION:Santa Barbara Golf Club, 3500 McCaw Ave., Santa Barbara, CA 93105
 , United States
ROOM: Moana 2 | Santa Barbara Golf Club
DESCRIPTION:Head to Santa Barbara Golf Club for a FREE movie night on Satu
 rday, May 10 at 7:30 p.m. Bring blankets or low back chairs to watch Moana
  2.There will be free popcorn, temporary tattooing, face painting, a putti
 ng contest, Birdie Ball, and music for all to enjoy. No registration neces
 sary. Learn more about the movie night
URL:https://santabarbaracity.librarycalendar.com/event/moana-2-santa-barba
 ra-golf-club-4287
END:VEVENT
END:VCALENDAR
