BEGIN:VCALENDAR
VERSION:2.0
PRODID:-//Library Market//iCal Export//EN
BEGIN:VEVENT
SUMMARY:Trail Volunteer Day | Hot Springs Trail
UID:4424
DTSTAMP:20260424T125600Z
DTSTART:20250607T151500Z
DTEND:20250607T210000Z
LOCATION:Montecito Union School District, 385 San Ysidro Road, Santa Barba
 ra, CA 93108, United States
ROOM: Trail Volunteer Day | Hot Springs Trail
DESCRIPTION:Join us for another large-scale trail volunteer event. Volunte
 ers of all experience levels are invited to learn about trail restoration 
 while working on the historic Hot Springs Trail. Tools, instruction, and l
 unch will be provided! RSVPs are required for this event! To RSVP, conta
 ct Steve Biddle, City of Santa Barbara Parks Supervisor, at (805) 564-5439
  or SBiddle@SantaBarbaraCA.govSCHEDULE AND LOCATION8:15a.m. Meet at Monte
 cito Union School District (385 San Ysidro Road) for safety orientation an
 d instruction9:00 a.m. Depart for trail worksites1:00 p.m. Return to Monte
 cito Union School District for a picnic lunch to celebrate your hard work!
  TRAILSHot Springs Trail, from the trailhead up past the Hot Spring Hotel
  and Spa ruins.SAFETYVolunteers must attend the safety orientation provide
 d at the start of the day to participate in trail work. Tasks will be assi
 gned based on skill level.WHAT TO WEARSturdy closed-toed shoes, long sleev
 es, and long pants to protect from poison oakWHAT TO BRINGWater, sunscreen
 , snacks, gloves, and bike helmetPARTNERSThis event is held in partnership
  with Santa Barbara County, US Forest Service, Montecito Trails Foundation
 , Los Padres Forest Association, and Sage Trail Alliance.Explore more Volu
 nteer Opportunities
URL:https://santabarbaracity.librarycalendar.com/event/trail-volunteer-day
 -hot-springs-trail-4424
END:VEVENT
END:VCALENDAR
