BEGIN:VCALENDAR
VERSION:2.0
PRODID:-//Library Market//iCal Export//EN
BEGIN:VEVENT
SUMMARY:Concerts in the Park | Chase Palm Park Great Meadow
UID:4435
DTSTAMP:20260423T224600Z
DTSTART:20250718T010000Z
DTEND:20250718T023000Z
LOCATION:Chase Palm Park Great Meadow, 236 East Cabrillo Blvd, Santa Barba
 ra, CA 93103, United States
ROOM: Concerts in the Park | Chase Palm Park Great Meadow
DESCRIPTION:Enjoy an evening of free live music along Santa Barbaraâ€™s wa
 terfront. Concerts take place on Thursday evenings from 6:00 p.m. to 7:30 
 p.m. on the Great Meadow in Chase Palm Park. This annual free concert seri
 es is hosted in partnership with the PARC Foundation.Event InformationMain
  acts will take the stage from 6:00 p.m. to 7:30 p.m. Opening acts will st
 art around 5:00 p.m. while crowds arrive.Blankets and chairs may be set ou
 t once staff have completed set up, usually between 10:30 a.m. and 11 a.m.
 Outside food and drinks are allowed. Food will be available onsite for pur
 chase.Alcohol is prohibited.All public parks are smoke/vape free.For the e
 njoyment and safety of all, please leave pets at home.2025 ScheduleThursda
 y, July 3 â€“ The Molly Ringwald ProjectThursday, July 10 â€“ Captain Card
 iac and The CoronariesThursday, July 17 â€“ The AcademyThursday, July 24 â
 €“ Soul MajesticFor more information, visit SantaBarbaraCA.gov/Concerts
URL:https://santabarbaracity.librarycalendar.com/event/concerts-park-chase
 -palm-park-great-meadow-4435
END:VEVENT
END:VCALENDAR
