BEGIN:VCALENDAR
VERSION:2.0
PRODID:-//Library Market//iCal Export//EN
BEGIN:VEVENT
SUMMARY:Montecito Motor Classic&#039;s &quot;Imagine&quot; Airport Day
UID:4437
DTSTAMP:20260424T125600Z
DTSTART:20250607T160000Z
DTEND:20250607T230000Z
LOCATION:Atlantic Aviation, 1601 Cook Place, Santa Barbara, CA 93117, Unit
 ed States
ROOM: Montecito Motor Classic&#039;s &quot;Imagine&quot; Airport Day
DESCRIPTION:Montecito Motor Classics presents &quot;Imagine&quot; - an Air
 port Day to inspire the next generation of aviation leaders - on Saturday,
  June 7 from 9:00 am-4:00 pm at Atlantic Aviation. Children, students, an
 d their families are invited to explore the exciting world of STEM educati
 on, meet staff in the aviation industry, and learn more about scholarship 
 opportunities. Tickets for adults 18+ are $25/person (cash only). Childre
 n under 18 and students with a student ID may attend for free.For more inf
 ormation, visit Montecito Motor Classic.  
URL:https://santabarbaracity.librarycalendar.com/event/montecito-motor-cla
 ssics-imagine-airport-day-4437
END:VEVENT
END:VCALENDAR
