BEGIN:VCALENDAR
VERSION:2.0
PRODID:-//Library Market//iCal Export//EN
BEGIN:VEVENT
SUMMARY:Neighborhood Cleanup | Cacique and Alisos Street.
UID:4457
DTSTAMP:20260423T171700Z
DTSTART:20250712T160000Z
DTEND:20250712T190000Z
LOCATION:United States
ROOM: Neighborhood Cleanup | Cacique and Alisos Street.
DESCRIPTION:Join the City&#039;s Clean Community Division for a neighborho
 od cleanup! Come by to pick up a cleanup kit or graffiti removal supplies 
 and help transform your neighborhood. Date: Saturday, July 12, 2025Time: 
 9:00 a.m. to NoonLocation: Meet at the corner of Cacique and Alisos Street
 .You can help clean up the area or take supplies to tidy up your neighborh
 ood, favorite beach, or park! Clean Community staff will be on hand to pro
 vide information and answer questions about keeping our neighborhoods clea
 n.For more information, contact Hillary Allen at HAllen@SantaBarbaraCA.gov
 . 
URL:https://santabarbaracity.librarycalendar.com/event/neighborhood-cleanu
 p-cacique-and-alisos-street-4457
END:VEVENT
END:VCALENDAR
