BEGIN:VCALENDAR
VERSION:2.0
PRODID:-//Library Market//iCal Export//EN
BEGIN:VEVENT
SUMMARY:Neighborhood Cleanup | Salsipuedes and Ortega Street
UID:4459
DTSTAMP:20260425T191200Z
DTSTART:20250913T160000Z
DTEND:20250913T190000Z
LOCATION:United States
ROOM: Neighborhood Cleanup | Salsipuedes and Ortega Street
DESCRIPTION:Join the City&#039;s Clean Community Division for a neighborho
 od cleanup! Come by to pick up a cleanup kit or graffiti removal supplies 
 and help transform your neighborhood. Date: Saturday, September 13, 2025T
 ime: 9:00 a.m. to NoonLocation: Meet at the corner of Salsipuedes and Orte
 ga Street.You can help clean up the area or take supplies to tidy up your 
 neighborhood, favorite beach, or park! Clean Community staff will be on ha
 nd to provide information and answer questions about keeping our neighborh
 oods clean.For more information, contact Hillary Allen at HAllen@SantaBarb
 araCA.gov. 
URL:https://santabarbaracity.librarycalendar.com/event/neighborhood-cleanu
 p-salsipuedes-and-ortega-street-4459
END:VEVENT
END:VCALENDAR
