BEGIN:VCALENDAR
VERSION:2.0
PRODID:-//Library Market//iCal Export//EN
BEGIN:VEVENT
SUMMARY:Recreation Swim | Oak Park Wading Pool
UID:4478
DTSTAMP:20260425T164900Z
DTSTART:20250626T190000Z
DTEND:20250627T000000Z
LOCATION:Oak Park Wading Pool, 502 W. Alamar St., Santa Barbara, CA 93105,
  United States
ROOM: Recreation Swim | Oak Park Wading Pool
DESCRIPTION:Oak Park Wading Pool is open for summer! Designed for children
  7 and under, this FREE pool is open daily from 12:00 p.m. to 5:00 p.m., s
 tarting June 16 and closing for the season on August 17. This facility wil
 l also be closed on Friday, July 4 for the holiday.All city pools have lif
 eguards on duty.Recreation swim is also available this summer at Ortega Pa
 rk Pool and Los Baños del Mar.
URL:https://santabarbaracity.librarycalendar.com/event/recreation-swim-oak
 -park-wading-pool-4478
END:VEVENT
END:VCALENDAR
