BEGIN:VCALENDAR
VERSION:2.0
PRODID:-//Library Market//iCal Export//EN
BEGIN:VEVENT
SUMMARY:Recreation Swim | Los Baños del Mar
UID:4555
DTSTAMP:20260423T093400Z
DTSTART:20250722T211500Z
DTEND:20250722T224500Z
LOCATION:Los BaÃ±os del Mar, 401 Shoreline Dr., Santa Barbara, CA 93101,
  United States
ROOM: Recreation Swim | Los Baños del Mar
DESCRIPTION:Join in the fun for recreation swim at Los Baños del Mar this
  summer starting June 16 through August 17. Recreation swim will be open e
 ach week Monday through Friday from 2:15 p.m. to 3:45 p.m. This facility 
 will also be closed on Friday, July 4 for the holiday and at noon on Frida
 y, August 1 for the Fiesta Parade.All city pools have lifeguards on duty.R
 ecreation swim is also available this summer at Ortega Park Pool and Oak P
 ark Wading Pool.
URL:https://santabarbaracity.librarycalendar.com/event/recreation-swim-los
 -banos-del-mar-4555
END:VEVENT
END:VCALENDAR
