BEGIN:VCALENDAR
VERSION:2.0
PRODID:-//Library Market//iCal Export//EN
BEGIN:VEVENT
SUMMARY:Water Commission: Special Meeting
UID:4653
DTSTAMP:20260424T125600Z
DTSTART:20250821T160000Z
DTEND:20250821T190000Z
LOCATION:Cater Water Treatment Plant, 1150 San Roque Road, Santa Barbara, 
 CA 93105, United States
ROOM: Water Commission: Special Meeting
DESCRIPTION:All Water Commission Regular Meetings are scheduled to meet on
  a monthly basis on the third Thursday of every month.AgendasGeneral Funct
 ionsVolunteerHistoryThe City Council created a City Water Commission heade
 d by Eugene Sheffield in 1900 to administer water services. Since that tim
 e, the City has constructed and operated Gibraltar Dam and Mission Tunnel;
  is a major user of water from Lake Cachuma; has drilled and operates a nu
 mber of water wells and treatment plants; has constructed a recycled water
  system and desalination facility; participates in the State Water Project
 , operates a comprehensive water conservation program; and has constructed
  and operates an extensive wastewater collection, treatment, and ocean-dis
 charge system. The City&#039;s diverse water supply system reflects the po
 tential for periodic extended drought conditions in Santa Barbara.The Wate
 r Resources Division is responsible for managing the City’s water supply
 , and operating and maintaining the water and wastewater systems. 
URL:https://santabarbaracity.librarycalendar.com/event/water-commission-sp
 ecial-meeting-4653
END:VEVENT
END:VCALENDAR
