BEGIN:VCALENDAR
VERSION:2.0
PRODID:-//Library Market//iCal Export//EN
BEGIN:VEVENT
SUMMARY:Community Outreach Meeting: Lower Eastside Safety Enhancements Pro
 ject
UID:4658
DTSTAMP:20260425T191200Z
DTSTART:20250807T003000Z
DTEND:20250807T013000Z
LOCATION:Franklin Elementary School, 1111 E. Mason Street, Santa Barbara, 
 CA, United States
ROOM: Community Outreach Meeting: Lower Eastside Safety Enhancements Proje
 ct
DESCRIPTION: MEET ONLINE:    Wednesday, August 6, 2025, 5:30 p.m. –
  6:30 p.m.This session will be held online using Zoom. Participants can wa
 tch the presentation and submit questions or comments. No webcams or micro
 phones necessary.Register at: SantaBarbaraCA.gov/LECC MEET IN PERSON:  
   Thursday, August 7, 2025, 5:30 p.m. – 6:30 p.m. This meeting will be
  held in the Multipurpose Room at Franklin Elementary School, 1111 E. Maso
 n Street. This will be an Open House format with no formal presentation.WH
 Y THESE MEETINGS?    In February 2024, City Council adopted the Lower E
 astside Community Connectivity Active Transportation Plan (Plan), which st
 udied improving pedestrian and bicycle connectivity between the Lower East
 side and destinations south of Highway 101 (U.S. 101). The Plan resulted i
 n two proposed projects: 1) Highway 101 Pedestrian/Cyclist Bridge Overcros
 sing from the Eastside to the Waterfront and 2) the Lower Eastside Safety 
 Enhancements Project. City Council directed staff to seek grant funding fo
 r both projects. To date, the City was successful in obtaining grant fundi
 ng for the Lower Eastside Safety Enhancements Project, which includes:•
    Safe Routes to School safety enhancements, including curb extension
 s and high visibility crosswalks at the intersections of Montecito and Vol
 untario Streets, Montecito and Soledad Streets, Quinientos and Voluntario 
 Streets, Quinientos and Soledad Streets, and Carpinteria and Soledad Stree
 ts. Other intersections may be included based on continued community engag
 ement; •    Bike and pedestrian friendly street improvements, inclu
 ding curb extensions at Canada and Hutash Streets, Canada and Punta Gorda 
 Streets, and Voluntario and Cacique Streets; •    Salinas Street sa
 fety improvements, including a lighting corridor on Salinas Street from th
 e five-point roundabout to the Highway 101 off ramp at Salinas Street, and
  curb extensions at Salinas and Clifton Streets, Salinas and Carpinteria S
 treets, Salinas and Hutash Streets, and Salinas and Pitos Streets;•  
  Traffic calming improvements along Salinas Street; and •    Side
 walk infill on Alisos Street from Cacique Street to Punta Gorda Street.The
  purpose of the meeting is to review the above Project scope in more detai
 l before the Project’s design is finalized. Construction of the Project 
 is anticipated to begin in the fall of 2027. The City will continue to see
 k funding for the overcrossing.CONTACT:    To learn more or ask questio
 ns about the Project, please contact LECC@SantaBarbaraCA.gov or (805) 897-
 2599.   Proyecto de Mejoras de Seguridad en Lower Eastside: ¡Los fondo
 s para el diseño y la construcción se han recibido! Revisemos el alcance
  del proyecto CONOZCA EN LÍNEA: Miércoles, 6 de agosto de 2025, de 5:30
  p.m. a 6:30 p.m.Esta sesión será en línea utilizando la plataforma Zoo
 m. Los participantes podrán ver la presentación y hacer preguntas o come
 ntarios. No se necesitan cámaras web ni micrófonos. Escanee el código 
 QR a continuación o regístrese en:  SantaBarbaraCA.gov/LECC REUNIRSE E
 N PERSONA: Jueves, 7 de agosto de 2025, 5:30 p.m. - 6:30 p.m. Esta reuni
 n se llevará a cabo en el Salón Multiusos de la Escuela Primaria Frank
 lin, 1111 E. Mason Street. Este será un formato de Casa Abierta sin prese
 ntación formal.¿POR QUÉ ESTAS REUNIONES?En febrero de 2024, el Concejo 
 de la Ciudad adoptó el Lower Eastside Community Connectivity Active Trans
 portation Plan (Plan de Transporte Activo de Conectividad Comunitaria del 
 Lado Este), el cual estudió la mejora de la conectividad peatonal y cicli
 sta entre el Lado Este y los destinos al sur de la Autopista 101 (U.S. 101
 ). El Plan dio lugar a dos propuestas de proyectos principales: 1) el puen
 te peatonal/ciclista de la autopista 101 que cruza desde el lado este hast
 a el paseo marítimo y 2) el proyecto de mejora de la seguridad del lado e
 ste bajo. El Concilio de la Cuidad encargó al personal que buscara subven
 ciones para ambos proyectos. Hasta la fecha, la ciudad ha logrado obtener 
 financiación para el proyecto de mejora de la seguridad del Lower Eastsid
 e, que incluye: Mejoras de seguridad de Rutas Seguras a la Escuela, inclu
 yendo extensiones de bordillos y cruces peatonales de alta visibilidad en 
 las intersecciones de las calles Montecito y Voluntario, Montecito y Soled
 ad, Quinientos y Voluntario, Quinientos y Soledad, y Carpintería y Soleda
 d. Es posible que se incluyan otras intersecciones en dependiendo de la co
 ntinua involucración de la comunidad;Mejoras en las calles aptas para bic
 icletas y peatones, incluidas las ampliaciones de bordillos en las calles 
 Canadá y Hutash, Canadá y Punta Gorda, y Voluntario y Cacique;Mejoras de
  seguridad en Salinas Street, incluyendo un corredor de iluminación en Sa
 linas Street desde la rotonda de cinco puntos hasta la rampa de salida de 
 la autopista 101 en Salinas Street, y extensiones de bordillo en, Salinas 
 Street y Clifton Street, Salinas Street y Carpinteria Street, Salinas Stre
 et y Hutash Street, y Salinas Street y Pitos Street;Mejoras para calmar el
  tráfico a lo largo de Salinas Street; yAceras en la Calle Alisos desde l
 a Calle Cacique hasta la Calle Punta Gorda.  El propósito de la reunió
 n es revisar el alcance del proyecto en más detalle antes de que se final
 ice el diseño del proyecto. Se prevé que la construcción del proyecto c
 omience en otoño de 2027. La ciudad seguirá buscando financiación para 
 el puente de sobrepaso. CONTACTO: Para obtener más información o hacer 
 preguntas sobre el Proyecto, póngase en contacto con LECC@SantaBarbaraCA
 .gov o (805) 897-2599.
URL:https://santabarbaracity.librarycalendar.com/event/community-outreach-
 meeting-lower-eastside-safety-enhancements-project-4658
END:VEVENT
END:VCALENDAR
