BEGIN:VCALENDAR
VERSION:2.0
PRODID:-//Library Market//iCal Export//EN
BEGIN:VEVENT
SUMMARY:The Wild Robot Movie Night | Santa Barbara Golf Club
UID:5063
DTSTAMP:20260426T033100Z
DTSTART:20250921T013000Z
DTEND:20250921T033000Z
LOCATION:Santa Barbara Golf Club, 3500 McCaw Ave., Santa Barbara, CA 93105
 , United States
ROOM: The Wild Robot Movie Night | Santa Barbara Golf Club
DESCRIPTION:Head to Santa Barbara Golf Club for a FREE movie night on Satu
 rday, September 20 at 6:30 p.m. Bring blankets or low back chairs to watch
  The Wild Robot.There will be free popcorn, temporary tattooing, face pain
 ting, a putting contest, Birdie Ball, and music for all to enjoy. No regis
 tration necessary. Learn more about the movie night
URL:https://santabarbaracity.librarycalendar.com/event/wild-robot-movie-ni
 ght-santa-barbara-golf-club-5063
END:VEVENT
END:VCALENDAR
