BEGIN:VCALENDAR
VERSION:2.0
PRODID:-//Library Market//iCal Export//EN
BEGIN:VEVENT
SUMMARY:Neighborhood Cleanup | Cacique &amp; Alisos Street
UID:5103
DTSTAMP:20260426T004300Z
DTSTART:20251206T170000Z
DTEND:20251206T200000Z
LOCATION:United States
ROOM: Neighborhood Cleanup | Cacique &amp; Alisos Street
DESCRIPTION:Due to anticipated rain on November 15, this event has been po
 stponed to Saturday, December 6! Same time, same location. 💛Join the Ci
 ty&#039;s Clean Community Division for a neighborhood cleanup! Come by to 
 pick up a cleanup kit or graffiti removal supplies and help transform your
  neighborhood. Date: Saturday, December 6, 2025Time: 9:00 a.m. to NoonLoc
 ation: Meet at the corner of Cacique &amp; Alisos Street.You can help clea
 n up the area or take supplies to tidy up your neighborhood, favorite beac
 h, or park! Clean Community staff will be on hand to provide information a
 nd answer questions about keeping our neighborhoods clean.For more informa
 tion, contact Hillary Allen at HAllen@SantaBarbaraCA.gov. 
URL:https://santabarbaracity.librarycalendar.com/event/neighborhood-cleanu
 p-cacique-alisos-street-5103
END:VEVENT
END:VCALENDAR
