BEGIN:VCALENDAR
VERSION:2.0
PRODID:-//Library Market//iCal Export//EN
BEGIN:VEVENT
SUMMARY:Rental Housing Mediation Board
UID:5111
DTSTAMP:20260423T224600Z
DTSTART:20250711T003000Z
DTEND:20250711T023000Z
LOCATION:David Gebhard Public Meeting Room, 630 Garden Street, Santa Barba
 ra, CA 93101, United States
ROOM: Rental Housing Mediation Board
DESCRIPTION:The Rental Housing Mediation Board meets on the second Thurs
 day of each month at 5:30 p.m. in the David Gebhard Public Meeting Room, 6
 30 Garden Street, Santa Barbara, California 93101.AgendasGeneral Functions
URL:https://santabarbaracity.librarycalendar.com/event/rental-housing-medi
 ation-board-5111
END:VEVENT
END:VCALENDAR
