BEGIN:VCALENDAR
VERSION:2.0
PRODID:-//Library Market//iCal Export//EN
BEGIN:VEVENT
SUMMARY:Santa Barbara Youth Council
UID:5211
DTSTAMP:20260424T125600Z
DTSTART:20251118T011500Z
DTEND:20251118T030000Z
LOCATION:423 W. Victoria Street, Santa Barbara, CA 93101, United States
ROOM: Santa Barbara Youth Council
DESCRIPTION:The Youth Council has served as a youth voice on the creation 
 of city policies and the coordination and development of facilities and ac
 tivities for teens in the community.The Youth Council meets the 1st and 3r
 d Monday of each month at 5:15 p.m. at the Westside Neighborhood Center, 4
 23 W. Victoria Street. *During the months of July and August the Youth Cou
 ncil meets once per month on a date and time decided by the Youth Council.
 AgendasGeneral FunctionsVolunteer HistoryThe City Council established the
  United Youth Empowered in 1994 which became the Youth Council in 1997. Bo
 th the United Youth Empowered and the Youth Council were created to functi
 on as a voice for teens by facilitating youth forums, youth publications a
 nd planning teen activities. For many years, the Youth Council functioned 
 as an advisory board for Teen Programs, the Parks and Recreation Commissio
 n and City Council.
URL:https://santabarbaracity.librarycalendar.com/event/santa-barbara-youth
 -council-5211
END:VEVENT
END:VCALENDAR
