BEGIN:VCALENDAR
VERSION:2.0
PRODID:-//Library Market//iCal Export//EN
BEGIN:VEVENT
SUMMARY:Sustainable Holidays Open House | Casa Abierta de Navidad Sostenib
 les
UID:5217
DTSTAMP:20260426T004300Z
DTSTART:20251205T000000Z
DTEND:20251205T030000Z
LOCATION:City of SB Sustainability &amp; Resilience Department, 801 Garden
  Street, Suite 200, Santa Barbara, CA 93101, United States
ROOM: Sustainable Holidays Open House | Casa Abierta de Navidad Sostenible
 s
DESCRIPTION:The City of Santa Barbara’s Sustainability &amp; Resilience 
 Department is delighted to invite the community to join us for our third a
 nnual &quot;Sustainable Holidays Open House&quot; on Thursday, December 4 
 from 4:00 PM to 7:00 PM at our office located at 801 Garden Street. This f
 estive event is designed to spread holiday cheer and promote sustainabilit
 y while bringing our community closer together. The &quot;Sustainable Hol
 idays Open House&quot; is a free event for all to enjoy and will feature a
  variety of activities and offerings, including: Cider, hot cocoa, and ho
 liday treats.DIY holiday craft stations, allowing you to create eco-friend
 ly holiday ornaments, wrapping paper, and more.Photo opportunities with Sa
 nta!Meet Sustainability &amp; Resilience Department staff and learn more a
 bout our mission and initiatives.And much more!Visit the Sustainability &a
 mp; Resilience Department website at SantaBarbaraCA.gov/Sustainability.El 
 Departamento de Sostenibilidad y Resiliencia de la Ciudad de Santa Bárbar
 a se complace en invitar a la comunidad a unirse a nosotros para una &quot
 ;Jornada de Puertas Abiertas de Fiestas de Sembrina&quot; el Jueves 5 de d
 iciembre de 4:00 a 7:00 en nuestra oficina ubicada en 801 Garden Street. E
 ste evento festivo está diseñado para difundir la alegría navideña y p
 romover la sostenibilidad, al tiempo que acerca a nuestra comunidad. El C
 asa Abierta de Navidad Sostenibles es un evento gratuito para que todos di
 sfruten y contará con una variedad de actividades y ofertas, incluyendo:
 Sidra, chocolate caliente y dulces navideños.Puestos de bricolaje para cr
 ear adornos navideños ecológicos, papel de regalo y mucho más.Fotos con
  Santa.Conozca al personal del Departamento de Sostenibilidad y Resilienci
 a y aprenda más sobre nuestra misión e iniciativas.Visite el sitio web d
 el Departamento de Sostenibilidad y Resiliencia en SantaBarbaraCA.gov/Sust
 ainability. 
URL:https://santabarbaracity.librarycalendar.com/event/sustainable-holiday
 s-open-house-casa-abierta-de-navidad-sostenibles-5217
END:VEVENT
END:VCALENDAR
