BEGIN:VCALENDAR
VERSION:2.0
PRODID:-//Library Market//iCal Export//EN
BEGIN:VEVENT
SUMMARY:Trunk or Treat | Spencer Adams Parking Lot
UID:5228
DTSTAMP:20260426T033100Z
DTSTART:20251031T000000Z
DTEND:20251031T023000Z
LOCATION:1235 Chapala Street, Santa Barbara, CA 93101, United States
ROOM: Trunk or Treat | Spencer Adams Parking Lot
DESCRIPTION:The Parks and Recreation Department, in partnership with SBPAL
 , and the Santa Barbara Youth Council, will host the annual Halloween Trun
 k or Treat event in the Spencer Adams Parking lot on Thursday, October 30,
  2025, from 5 – 7:30pm. Families are invited to wear costumes, collect c
 andy, and vote for their favorite decorated trunk at this FREE community e
 vent.For more information please visit, SantaBarbaraCA.gov/Trunk-or-Treat.
URL:https://santabarbaracity.librarycalendar.com/event/trunk-or-treat-spen
 cer-adams-parking-lot-5228
END:VEVENT
END:VCALENDAR
