BEGIN:VCALENDAR
VERSION:2.0
PRODID:-//Library Market//iCal Export//EN
BEGIN:VEVENT
SUMMARY:Holiday Family Fun Day | Santa Barbara Golf Club
UID:5557
DTSTAMP:20260426T033100Z
DTSTART:20251207T220000Z
DTEND:20251208T000000Z
LOCATION:Santa Barbara Golf Club, 3500 McCaw Ave., Santa Barbara, CA 93105
 , United States
ROOM: Holiday Family Fun Day | Santa Barbara Golf Club
DESCRIPTION:Join us for an afternoon of free holiday family fun at the San
 ta Barbara Golf Club on Sunday, December 7 from 2:00 p.m. to 4:00 p.m. Fam
 ilies can enjoy a bounce house, face painting, hot chocolate and cookies, 
 and a holiday themed putting contest. No need to RSVP, just bring the fami
 ly and enjoy a day at the beautiful Santa Barbara Golf Club.
URL:https://santabarbaracity.librarycalendar.com/event/holiday-family-fun-
 day-santa-barbara-golf-club-5557
END:VEVENT
END:VCALENDAR
