BEGIN:VCALENDAR
VERSION:2.0
PRODID:-//Library Market//iCal Export//EN
BEGIN:VEVENT
SUMMARY:Knitting &amp; Crochet Club | Louise Lowry Davis Center
UID:5712
DTSTAMP:20260423T093400Z
DTSTART:20260107T170000Z
DTEND:20260107T193000Z
LOCATION:Louise Lowry Davis Center, 111 W Victoria Street, Santa Barbara, 
 CA 93101, United States
ROOM: Knitting &amp; Crochet Club | Louise Lowry Davis Center
DESCRIPTION:This weekly social group is designed to connect older adults t
 hrough their passion for knitting and crocheting. New members are always w
 elcome, and the group is open to English and Spanish speakers.View All Old
 er Adult Programs
URL:https://santabarbaracity.librarycalendar.com/event/knitting-crochet-cl
 ub-louise-lowry-davis-center-5712
END:VEVENT
END:VCALENDAR
