BEGIN:VCALENDAR
VERSION:2.0
PRODID:-//Library Market//iCal Export//EN
BEGIN:VEVENT
SUMMARY:Stearns Wharf Holiday Tree Lighting Ceremony
UID:6188
DTSTAMP:20260426T004300Z
DTSTART:20251206T000000Z
DTEND:20251206T020000Z
LOCATION:Stearns Wharf Business Association, Stearns Wharf, Santa Barbara,
  93101, United States
ROOM: Stearns Wharf Holiday Tree Lighting Ceremony
DESCRIPTION: On Friday, December 5th, at 4:00 p.m., join the Stearns Whar
 f Business Association (SWBA) merchants for a spectacular evening filled w
 ith family fun on Stearns Wharf, as they light up the ocean sky with the b
 eautiful holiday tree during the annual tree lighting ceremony. Featuring
 : Live DJ - Scott Topper (KLITE)Dos Pueblos High School Jazz ChoirFestive
  Sweater ContestWharf Walk SpecialsClassic Car Show Photo StopCommunity No
 nprofits  For more information, please visit Stearns Wharf Tree Light Ce
 remony. 
URL:https://santabarbaracity.librarycalendar.com/event/stearns-wharf-holid
 ay-tree-lighting-ceremony-6188
END:VEVENT
END:VCALENDAR
