BEGIN:VCALENDAR
VERSION:2.0
PRODID:-//Library Market//iCal Export//EN
BEGIN:VEVENT
SUMMARY:Highway 101: Santa Barbara North Community Meeting
UID:6263
DTSTAMP:20260426T004300Z
DTSTART:20251203T013000Z
DTEND:20251203T023000Z
LOCATION:Santa Barbara County Association of Governments (SBCAG), 1118 Eas
 t Cabrillo Boulevard, Santa Barbara, CA 93101, United States
ROOM: Highway 101: Santa Barbara North Community Meeting
DESCRIPTION:The Santa Barbara County Association of Governments invites th
 e public to attend a community meeting to learn more about the Highway 101
 : Santa Barbara North project timeline, construction strategy, and planned
  freeway improvements. The final segment of the project will complete the 
 addition of 10.9 miles of peak-period carpool lanes and finalize this flag
 ship Measure A investment.A new peak-period carpool lane in each direction
  between Hermosillo Road and Salinas StreetA fully reconstructed Cabrillo
  Boulevard Interchange with two new bridges and right-hand on- and off-ra
 mps, including a new southbound on-rampA teardrop roundabout at Cabrillo
  Boulevard and the Highway 101 northbound ramps to improve traffic circula
 tionPermanent closure of the southbound off-ramp at Los Patos Way due to 
 low railroad clearanceReconstructed freeway lanes to improve sight distanc
 e and meet current safety standardsUpdated storm drains, enhanced lighting
 , and new overhead signsThe project is fully funded, with construction sch
 eduled to begin in spring 2026 and continue through 2028. Early activities
  include vegetation clearing from mid-December through January, ahead of b
 ird nesting season. Due to the height of the trees, most clearing will tak
 e place at night and will require lane and ramp closures. Noise is expecte
 d during both day and night shifts while vegetation clearing is underway.F
 or more information, visit Highway 101:  Santa Barbara North Community Me
 eting Set for Dec. 2.
URL:https://santabarbaracity.librarycalendar.com/event/highway-101-santa-b
 arbara-north-community-meeting-6263
END:VEVENT
END:VCALENDAR
