BEGIN:VCALENDAR
VERSION:2.0
PRODID:-//Library Market//iCal Export//EN
BEGIN:VEVENT
SUMMARY:Santa Barbara Harbor &amp; Seafood Festival
UID:4132
DTSTAMP:20260426T004300Z
DTSTART:20251018T170000Z
DTEND:20251019T000000Z
LOCATION:Waterfront Department, Harbor Way, Santa Barbara, CA 93109, Unite
 d States
ROOM: Santa Barbara Harbor &amp; Seafood Festival
DESCRIPTION: Celebrate Santa Barbara Channel’s bounty and the commercia
 l fishermen who harvest it at the 22nd Annual Santa Barbara Harbor &amp; S
 eafood Festival on Saturday, October 18, 2025. This free event runs from 1
 0:00 a.m. to 5:00 p.m., luring seafood lovers to Santa Barbara Harbor for 
 one of our community’s most cherished events. Timed to celebrate the ope
 ning of lobster season, the festival showcases fresh, regional seafood in 
 addition to live music, maritime education, free boat rides, children’s 
 activities, vessel tours, merchant goodies, and more. There’s fun to be 
 had for all ages.Come enjoy an abundance of sustainably harvested high-qua
 lity seafood. Meet fishermen face-to-face. Select local fresh-caught lobst
 er, crab, and sea urchin “uni”. Visit specialty food booths for fish 
 tacos, oysters, mussels, barbequed albacore, clam chowder, seafood paella,
  and more.While local bands play live on the Marina Stage, peruse special 
 festival memorabilia, shop for a variety of art, clothing, and other uniqu
 e gifts, and enjoy free vessel tours, as well as harbor boat rides.The San
 ta Barbara Harbor &amp; Seafood Festival is presented by the City of Santa
  Barbara Waterfront Department, the Santa Barbara Harbor Merchants’ Asso
 ciation, and the Commercial Fishermen of Santa Barbara, Inc., along with v
 arious community partners and volunteers. Visit the official Harbor &amp;
  Seafood Festival website HERE.  
URL:https://santabarbaracity.librarycalendar.com/event/santa-barbara-harbo
 r-seafood-festival-4132
END:VEVENT
END:VCALENDAR
