BEGIN:VCALENDAR
VERSION:2.0
PRODID:-//Library Market//iCal Export//EN
BEGIN:VEVENT
SUMMARY:July 5th Beach Cleanup Volunteer Opportunity
UID:4137
DTSTAMP:20260426T004300Z
DTSTART:20250705T160000Z
DTEND:20250705T180000Z
LOCATION:Waterfront Department, United States
ROOM: July 5th Beach Cleanup Volunteer Opportunity
DESCRIPTION: Following the Fourth of July Celebration, the City will part
 ner with Santa Barbara Channelkeeper to host beach cleanups at nearby be
 aches to ensure any litter left over from the holiday does not make its wa
 y to the ocean. To get ahead of the cleanup efforts, the City encourages a
 ttendees not to litter or overflow the waterfront trashcans. If the waterf
 ront trashcans are at capacity, please bring your trash home with you to d
 ispose of appropriately.  Beach cleanups will take place at Leadbetter B
 each, East Beach, and West Beach from 9 a.m. to 11 a.m. Gloves and buckets
  will be provided for all volunteers, as well as a parking pass for the cl
 eanup.  July 5th Beach Cleanup Registration 
URL:https://santabarbaracity.librarycalendar.com/event/july-5th-beach-clea
 nup-volunteer-opportunity-4137
END:VEVENT
END:VCALENDAR
