BEGIN:VCALENDAR
VERSION:2.0
PRODID:-//Library Market//iCal Export//EN
BEGIN:VEVENT
SUMMARY:Community Outreach Meeting: Lower Eastside Safety Enhancements Pro
 ject
UID:4659
DTSTAMP:20260426T004300Z
DTSTART:20250808T003000Z
DTEND:20250808T013000Z
LOCATION:Franklin Elementary School, 1111 E. Mason Street, Santa Barbara, 
 CA, United States
ROOM: Community Outreach Meeting: Lower Eastside Safety Enhancements Proje
 ct
DESCRIPTION:Â MEET IN PERSON: Â  Â Thursday, August 7, 2025, 5:30 p.m. â€“
  6:30 p.m.Â This meeting will be held in the Multipurpose Room at Franklin
  Elementary School, 1111 E. Mason Street. This will be an Open House forma
 t with no formal presentation.WHY THIS MEETING? Â Â  In February 2024, Cit
 y Council adopted the Lower Eastside Community Connectivity Active Transpo
 rtation Plan (Plan), which studied improving pedestrian and bicycle connec
 tivity between the Lower Eastside and destinations south of Highway 101 (U
 .S. 101). The Plan resulted in two proposed projects: 1) Highway 101 Pedes
 trian/Cyclist Bridge Overcrossing from the Eastside to the Waterfront and 
 2) the Lower Eastside Safety Enhancements Project. City Council directed s
 taff to seek grant funding for both projects. To date, the City was succes
 sful in obtaining grant funding for the Lower Eastside Safety Enhancements
  Project, which includes:â€¢ Â  Â Safe Routes to School safety enhancement
 s, including curb extensions and high visibility crosswalks at the interse
 ctions of Montecito and Voluntario Streets, Montecito and Soledad Streets,
  Quinientos and Voluntario Streets, Quinientos and Soledad Streets, and Ca
 rpinteria and Soledad Streets. Other intersections may be included based o
 n continued community engagement;Â â€¢ Â  Â Bike and pedestrian friendly s
 treet improvements, including curb extensions at Canada and Hutash Streets
 , Canada and Punta Gorda Streets, and Voluntario and Cacique Streets;Â â€¢
  Â  Â Salinas Street safety improvements, including a lighting corridor on
  Salinas Street from the five-point roundabout to the Highway 101 off ramp
  at Salinas Street, and curb extensions at Salinas and Clifton Streets, Sa
 linas and Carpinteria Streets, Salinas and Hutash Streets, and Salinas and
  Pitos Streets;â€¢ Â  Â Traffic calming improvements along Salinas Street;
  andÂ â€¢ Â  Â Sidewalk infill on Alisos Street from Cacique Street to Pun
 ta Gorda Street.The purpose of the meeting is to review the above Project 
 scope in more detail before the Projectâ€™s design is finalized. Construct
 ion of the Project is anticipated to begin in the fall of 2027. The City w
 ill continue to seek funding for the overcrossing.CONTACT: Â  Â To learn m
 ore or ask questions about the Project, please contact LECC@SantaBarbaraCA
 .gov, visit the Project website at SantaBarbaraCA.gov/LECC or (805) 897-25
 99.Â Â Â Proyecto de Mejoras de Seguridad en Lower Eastside: Â¡Los fondos 
 para el diseÃ±o y la construcciÃ³n se han recibido! Revisemos el alcance d
 el proyectoÂ REUNIRSE EN PERSONA: Jueves, 7 de agosto de 2025, 5:30 p.m. -
  6:30 p.m.Esta reuniÃ³n se llevarÃ¡ a cabo en el SalÃ³n Multiusos de laÂ E
 scuela Primaria Franklin, 1111 E. Mason Street. Este serÃ¡ un formato de C
 asa Abierta sin presentaciÃ³n formal.Â¿POR QUÃ‰ ESTAS REUNIONES?En febrero
  de 2024, el Concejo de la Ciudad adoptÃ³ el Lower Eastside Community Conn
 ectivity Active Transportation Plan (Plan de Transporte Activo de Conectiv
 idad Comunitaria del Lado Este), el cual estudiÃ³ la mejora de la conectiv
 idad peatonal y ciclista entre el Lado Este y los destinos al sur de la Au
 topista 101 (U.S. 101). El Plan dio lugar a dos propuestas de proyectos pr
 incipales: 1) el puente peatonal/ciclista de la autopista 101 que cruza de
 sde el lado este hasta el paseo marÃ­timo y 2) el proyecto de mejora de la
  seguridad del lado este bajo. El Concilio de la Cuidad encargÃ³ al person
 al que buscara subvenciones para ambos proyectos. Hasta la fecha, la ciuda
 d ha logrado obtener financiaciÃ³n para el proyecto de mejora de la seguri
 dad del Lower Eastside, que incluye:Â Mejoras de seguridad de Rutas Segura
 s a la Escuela, incluyendo extensiones de bordillos y cruces peatonales de
  alta visibilidad en las intersecciones de las calles Montecito y Voluntar
 io, Montecito y Soledad, Quinientos y Voluntario, Quinientos y Soledad, y 
 CarpinterÃ­a y Soledad. Es posible que se incluyan otras intersecciones en
  dependiendo de la continua involucraciÃ³n de la comunidad;Mejoras en las 
 calles aptas para bicicletas y peatones, incluidas las ampliaciones de bor
 dillos en las calles CanadÃ¡ y Hutash, CanadÃ¡ y Punta Gorda, y Voluntario
  y Cacique;Mejoras de seguridad en Salinas Street, incluyendo un corredor 
 de iluminaciÃ³n en Salinas Street desde la rotonda de cinco puntos hasta l
 a rampa de salida de la autopista 101 en Salinas Street, y extensiones de 
 bordillo en, Salinas Street y Clifton Street, Salinas Street y Carpinteria
  Street, Salinas Street y Hutash Street, y Salinas Street y Pitos Street;M
 ejoras para calmar el trÃ¡fico a lo largo de Salinas Street; yAceras en la
  Calle Alisos desde la Calle Cacique hasta la Calle Punta Gorda.Â El propÃ
 ³sito de la reuniÃ³n es revisar el alcance del proyecto en mÃ¡s detalle an
 tes de que se finalice el diseÃ±o del proyecto. Se prevÃ© que la construcc
 iÃ³n del proyecto comience en otoÃ±o de 2027. La ciudad seguirÃ¡ buscando 
 financiaciÃ³n para el puente de sobrepaso.Â CONTACTO: Para obtener mÃ¡s in
 formaciÃ³n o hacer preguntas sobre el Proyecto, pÃ³ngase en contacto conÂ 
  LECC@SantaBarbaraCA.gov o (805) 897-2599.
URL:https://santabarbaracity.librarycalendar.com/event/community-outreach-
 meeting-lower-eastside-safety-enhancements-project-4659
END:VEVENT
END:VCALENDAR
