BEGIN:VCALENDAR
VERSION:2.0
PRODID:-//Library Market//iCal Export//EN
BEGIN:VEVENT
SUMMARY:Sunset Sessions | Plaza del Mar Band Shell
UID:5066
DTSTAMP:20260425T191200Z
DTSTART:20250912T010000Z
DTEND:20250912T023000Z
LOCATION:Plaza del Mar Band Shell, 100 Castillo Street, Santa Barbara, CA 
 93101, United States
ROOM: Sunset Sessions | Plaza del Mar Band Shell
DESCRIPTION:Join the Parks and Recreation Department every Thursday in Sep
 tember for free family-friendly entertainment at the recently renovated Pl
 aza del Mar Band Shell.LineupSeptember 4, 6:00 p.m. - 7:30 p.m. - Acoustic
  concert by Carly Powers and Will BremanSeptember 11, 6:00 p.m. - 7:30 p.m
 . - Theatre performance, Wisdom of Emotions - Life Lessons from Around the
  World, by Boxtales Theatre Company[Postponed] September 18, 6:00 p.m. - 7
 :30 p.m. - Poetry and short story readings by Gunpowder Poetry GroupSeptem
 ber 25, 6:00 p.m. - 7:30 p.m. - Acoustic concert by Molly O&#039;Connell a
 nd Miles Carter, along with Salty StringsOctober 2, 6:00 p.m. - 7:30 p.m. 
 - Poetry and short story readings by Gunpowder Poetry GroupEvent Informati
 onLawn chairs and blankets may be used to reserve space starting at 4:00 p
 .m.Outside food and non-alcoholic beverages are allowed; food will also be
  available for purchaseAlcohol is prohibitedAll public parks are smoke/vap
 e-freeParking is available on a first-come, first-served basis in the Pers
 hing Park parking lot (free) and the Harbor Main parking lot (paid)For mor
 e information, visit SantaBarbaraCA.gov/SunsetSessions
URL:https://santabarbaracity.librarycalendar.com/event/sunset-sessions-pla
 za-del-mar-band-shell-5066
END:VEVENT
END:VCALENDAR
