BEGIN:VCALENDAR
VERSION:2.0
PRODID:-//Library Market//iCal Export//EN
BEGIN:VEVENT
SUMMARY:Volunteer Gardening | Alice Keck Park Memorial Garden
UID:5850
DTSTAMP:20260423T093400Z
DTSTART:20260107T170000Z
DTEND:20260108T000000Z
LOCATION:Alice Keck Park Memorial Garden, 1500 Santa Barbara St., Santa Ba
 rbara, CA 93101, United States
ROOM: Volunteer Gardening | Alice Keck Park Memorial Garden
DESCRIPTION:Join gardeners of all experience levels for a day of caring fo
 r the &quot;Crown Jewel&quot; of Santa Barbara, Alice Keck Park Memorial G
 arden. Parks staff will provide instruction in proper pruning, mulching, d
 eadheading, and weeding techniques. Volunteers will grow in their horticul
 tural knowledge and skills while spending a day serving their community an
 d giving a boost to this beloved park. Please bring sun protection, water
  to stay hydrated, and any hand tools or gloves that you may have. A limit
 ed supply of tools and gloves are available.Drop in volunteers are welcome
 :every Wednesday from 9:00 a.m. to 5:30 p.m. (4:00 p.m. from November 5 th
 rough March 4 for daylight reasons),every Thursday from 1:00 p.m. to 3:00 
 p.m.,every Friday from 9:00 a.m. to 3:00 p.m.,and the first Saturday of ea
 ch month from 9:00 a.m. to 12:00 p.m.For more volunteer opportunities, ple
 ase visit SantaBarbaraCA.gov/ParkVolunteer.
URL:https://santabarbaracity.librarycalendar.com/event/volunteer-gardening
 -alice-keck-park-memorial-garden-5850
END:VEVENT
END:VCALENDAR
