BEGIN:VCALENDAR
VERSION:2.0
PRODID:-//Library Market//iCal Export//EN
BEGIN:VEVENT
SUMMARY:Special City Council Meeting
UID:6543
DTSTAMP:20260426T004300Z
DTSTART:20260129T190000Z
DTEND:20260130T010000Z
LOCATION:40 E. Anapamu St., Santa Barbara, CA 93101, United States
ROOM: Special City Council Meeting
DESCRIPTION:The Special City Council Meeting starts at 11:00 a.m. on Thurs
 day, January 29, at the Faulkner Gallery in the Central Library.The comple
 te agenda and instructions for public participation can be found here: San
 ta Barbara City Council Meeting Agenda.
URL:https://santabarbaracity.librarycalendar.com/event/special-city-counci
 l-meeting-6543
END:VEVENT
END:VCALENDAR
