BEGIN:VCALENDAR
VERSION:2.0
PRODID:-//Library Market//iCal Export//EN
BEGIN:VEVENT
SUMMARY:Safe Streets for All Action Planning Effort: Proposed Engineering 
 Approaches to Priority Streets
UID:6642
DTSTAMP:20260426T004300Z
DTSTART:20260507T003000Z
DTEND:20260507T013000Z
LOCATION:Main Library- Faulkner Gallery, 40 East Anapamu Street, Santa Bar
 bara, CA 93101, United States
ROOM: Safe Streets for All Action Planning Effort: Proposed Engineering Ap
 proaches to Priority Streets
DESCRIPTION:For more information on the Safe Streets for All Action Plan, 
 please view: Safe Streets for All Action Plan | City of Santa Barbara
URL:https://santabarbaracity.librarycalendar.com/event/safe-streets-all-ac
 tion-planning-effort-proposed-engineering-approaches-priority-streets-6642
END:VEVENT
END:VCALENDAR
